BEGIN:VCALENDAR
VERSION:2.0
PRODID:-//Lernort Geschichte - ECPv6.15.20//NONSGML v1.0//EN
CALSCALE:GREGORIAN
METHOD:PUBLISH
X-WR-CALNAME:Lernort Geschichte
X-ORIGINAL-URL:https://lernortgeschichte.de
X-WR-CALDESC:Veranstaltungen für Lernort Geschichte
REFRESH-INTERVAL;VALUE=DURATION:PT1H
X-Robots-Tag:noindex
X-PUBLISHED-TTL:PT1H
BEGIN:VTIMEZONE
TZID:UTC
BEGIN:STANDARD
TZOFFSETFROM:+0000
TZOFFSETTO:+0000
TZNAME:UTC
DTSTART:20250101T000000
END:STANDARD
END:VTIMEZONE
BEGIN:VEVENT
DTSTART;TZID=UTC:20260422T180000
DTEND;TZID=UTC:20260422T193000
DTSTAMP:20260422T150401
CREATED:20260211T124733Z
LAST-MODIFIED:20260322T203917Z
UID:15258-1776880800-1776886200@lernortgeschichte.de
SUMMARY:Filmvorführung: "Sechs Millionen. Und Einer" von Tina Fuchs
DESCRIPTION:Fast 80 Jahre ist es her\, da wurde sein Großvater Shmuel Dancyger\, Überlebender von Auschwitz\, in Stuttgart erschossen. Der Fall wurde nie aufgeklärt. Howard\, sein Enkel aus Kanada\, beginnt die Suche nach dem Täter und wird dabei von der jungen Historikerin Josefine Geib unterstützt. Sie ist genau da aufgewachsen\, wo Samuel Danziger durch einen Kopfschuss das Leben genommen worden war. Howard und Josefine stoßen bei ihren Recherchen auf den ungebrochenen Antisemitismus der Nachkriegszeit. Sie stellen fest\, dass der erste erschossene Jude nach dem Zweiten Weltkrieg verschwiegen werden sollte. Denn der Name des Täters steht in den Akten – unentdeckt bis heute. Der bisher nie auf Deutsch gezeigte Film über die Suche nach dem Todesschützen von Shmuel Dancyger. \nDer Film wird im Rahmen der Ausstellung „Der Fall des Shmuel Dancygers“ erzählt\, die von der Filmemacherin und Bernhard Kinzler kuratiert wurde. Die Ausstellung wird gefördert von der Baden-Württemberg Stiftung und der Bürgerstiftung Stuttgart. \n 
URL:https://lernortgeschichte.de/event/dokumentarfilm-sechs-millionen-und-einer-von-tina-fuchs-3/
LOCATION:Atelier am Bollwerk\, Hohe Str. 26\, Stuttgart\, Baden-Württemberg\, 70176\, Germany
END:VEVENT
BEGIN:VEVENT
DTSTART;TZID=UTC:20260422T180000
DTEND;TZID=UTC:20260422T200000
DTSTAMP:20260422T150401
CREATED:20260326T131306Z
LAST-MODIFIED:20260407T182319Z
UID:15345-1776880800-1776888000@lernortgeschichte.de
SUMMARY:Was hat die Geschichte von Shmuel Dancyger mit uns heute zu tun?
DESCRIPTION:Im Rahmen der Ausstellung „Der Fall Shmuel Dancyger“ laden wir zu einem offenen Austausch ein. Gemeinsam wollen wir darüber sprechen\, was dieser Fall über Gewalt\, Erinnerung und unsere Gegenwart erzählt – und welche Fragen er an uns stellt. Dabei setzen wir die Objekte der Ausstellung in den Kontext unserer Bezüge. Komm vorbei\, bring deine Perspektive mit und diskutiere mit anderen jungen Menschen in einem Braver Space über Deine Gedanken und Fragen. Für Fingerfood und Getränke ist gesorgt. \nDer Austausch wird begleitet von Veronica Sartore (Projektkoordinatorin des jüdisch-muslimischen Bildungsprojekts Yad be Yad\, Kubus e.V.)\, Bahaa Ziadah (arabische Sprachschule „Sprachgarten“) und Pia Preu (Leitung Lernort Geschichte\, Stuttgarter Jugendhaus gGmbH\, und u.a. Produktion der Ausstellung). \nDie Veranstaltung wird gefördert vom Ministerium für Soziales\, Gesundheit und Integration aus Mitteln\, die der Landtag von Baden-Württemberg beschlossen hat.
URL:https://lernortgeschichte.de/event/was-hat-die-geschichte-von-shmuel-dancyger-mit-uns-heute-zu-tun/
LOCATION:Württembergischer Kunstverein\, Schlossplatz 2\, Stuttgart\, Baden-Württemberg\, 70173
END:VEVENT
END:VCALENDAR